BEGIN:VCALENDAR
VERSION:2.0
PRODID:-//Bath Freemasons - ECPv4.4.2//NONSGML v1.0//EN
CALSCALE:GREGORIAN
METHOD:PUBLISH
X-WR-CALNAME:Bath Freemasons
X-ORIGINAL-URL:https://bathfreemasons.org.uk
X-WR-CALDESC:Events for Bath Freemasons
BEGIN:VEVENT
DTSTART;VALUE=DATE:20240316
DTEND;VALUE=DATE:20240317
DTSTAMP:20260424T103050
CREATED:20240306T095204Z
LAST-MODIFIED:20240306T095204Z
UID:4945-1710547200-1710719999@bathfreemasons.org.uk
SUMMARY:PLAY - "Falling in Love"
DESCRIPTION:
URL:https://bathfreemasons.org.uk/event/play-falling-love/
END:VEVENT
END:VCALENDAR