BEGIN:VCALENDAR
VERSION:2.0
PRODID:-//Bath Freemasons - ECPv4.4.2//NONSGML v1.0//EN
CALSCALE:GREGORIAN
METHOD:PUBLISH
X-WR-CALNAME:Bath Freemasons
X-ORIGINAL-URL:https://bathfreemasons.org.uk
X-WR-CALDESC:Events for Bath Freemasons
BEGIN:VEVENT
DTSTART;TZID=UTC+0:20240418T190000
DTEND;TZID=UTC+0:20240418T203000
DTSTAMP:20260424T153549
CREATED:20240123T121755Z
LAST-MODIFIED:20240123T121755Z
UID:4745-1713466800-1713472200@bathfreemasons.org.uk
SUMMARY:REH - Bladud KT
DESCRIPTION:
URL:https://bathfreemasons.org.uk/event/reh-bladud-kt-8/
CATEGORIES:KT40
END:VEVENT
END:VCALENDAR