BEGIN:VCALENDAR
VERSION:2.0
PRODID:-//Bath Freemasons - ECPv4.4.2//NONSGML v1.0//EN
CALSCALE:GREGORIAN
METHOD:PUBLISH
X-WR-CALNAME:Bath Freemasons
X-ORIGINAL-URL:https://bathfreemasons.org.uk
X-WR-CALDESC:Events for Bath Freemasons
BEGIN:VEVENT
DTSTART;TZID=UTC+0:20211028T183000
DTEND;TZID=UTC+0:20211028T203000
DTSTAMP:20260425T210839
CREATED:20210813T093047Z
LAST-MODIFIED:20210813T093047Z
UID:3338-1635445800-1635453000@bathfreemasons.org.uk
SUMMARY:REH - Elizabethan
DESCRIPTION:
URL:https://bathfreemasons.org.uk/event/reh-elizabethan-20/
CATEGORIES:7296
END:VEVENT
END:VCALENDAR