BEGIN:VCALENDAR
VERSION:2.0
PRODID:-//Bath Freemasons - ECPv4.4.2//NONSGML v1.0//EN
CALSCALE:GREGORIAN
METHOD:PUBLISH
X-WR-CALNAME:Bath Freemasons
X-ORIGINAL-URL:https://bathfreemasons.org.uk
X-WR-CALDESC:Events for Bath Freemasons
BEGIN:VEVENT
DTSTART;TZID=UTC+0:20261106T183000
DTEND;TZID=UTC+0:20261106T203000
DTSTAMP:20260425T030826
CREATED:20251230T102223Z
LAST-MODIFIED:20251230T102223Z
UID:5929-1793989800-1793997000@bathfreemasons.org.uk
SUMMARY:REH - Lodge of Honour
DESCRIPTION:
URL:https://bathfreemasons.org.uk/event/reh-lodge-honour-20/
CATEGORIES:379
END:VEVENT
END:VCALENDAR