BEGIN:VCALENDAR
VERSION:2.0
PRODID:-//Bath Freemasons - ECPv4.4.2//NONSGML v1.0//EN
CALSCALE:GREGORIAN
METHOD:PUBLISH
X-WR-CALNAME:Bath Freemasons
X-ORIGINAL-URL:https://bathfreemasons.org.uk
X-WR-CALDESC:Events for Bath Freemasons
BEGIN:VEVENT
DTSTART;TZID=UTC+0:20261015T203000
DTEND;TZID=UTC+0:20261015T223000
DTSTAMP:20260423T181312
CREATED:20251230T100848Z
LAST-MODIFIED:20251230T100848Z
UID:5901-1792096200-1792103400@bathfreemasons.org.uk
SUMMARY:REH - Royal Albert Edward
DESCRIPTION:
URL:https://bathfreemasons.org.uk/event/reh-royal-albert-edward-56/
CATEGORIES:906
END:VEVENT
END:VCALENDAR