BEGIN:VCALENDAR
VERSION:2.0
PRODID:-//Bath Freemasons - ECPv4.4.2//NONSGML v1.0//EN
CALSCALE:GREGORIAN
METHOD:PUBLISH
X-WR-CALNAME:Bath Freemasons
X-ORIGINAL-URL:https://bathfreemasons.org.uk
X-WR-CALDESC:Events for Bath Freemasons
BEGIN:VEVENT
DTSTART;TZID=UTC+0:20230411T190000
DTEND;TZID=UTC+0:20230411T213000
DTSTAMP:20260424T134129
CREATED:20230330T072901Z
LAST-MODIFIED:20230330T072901Z
UID:4387-1681239600-1681248600@bathfreemasons.org.uk
SUMMARY:REH - Royal Cumberland Chapter
DESCRIPTION:
URL:https://bathfreemasons.org.uk/event/reh-royal-cumberland-chapter-13/
CATEGORIES:C41
END:VEVENT
END:VCALENDAR