BEGIN:VCALENDAR
VERSION:2.0
PRODID:-//Bath Freemasons - ECPv4.4.2//NONSGML v1.0//EN
CALSCALE:GREGORIAN
METHOD:PUBLISH
X-WR-CALNAME:Bath Freemasons
X-ORIGINAL-URL:https://bathfreemasons.org.uk
X-WR-CALDESC:Events for Bath Freemasons
BEGIN:VEVENT
DTSTART;TZID=UTC+0:20250312T183000
DTEND;TZID=UTC+0:20250312T200000
DTSTAMP:20260421T221815
CREATED:20240630T160559Z
LAST-MODIFIED:20240630T160618Z
UID:5099-1741804200-1741809600@bathfreemasons.org.uk
SUMMARY:REH - Royal Cumberland Chapter
DESCRIPTION:
URL:https://bathfreemasons.org.uk/event/reh-royal-cumberland-chapter-23/
CATEGORIES:C41
END:VEVENT
END:VCALENDAR