BEGIN:VCALENDAR
VERSION:2.0
PRODID:-//Bath Freemasons - ECPv4.4.2//NONSGML v1.0//EN
CALSCALE:GREGORIAN
METHOD:PUBLISH
X-WR-CALNAME:Bath Freemasons
X-ORIGINAL-URL:https://bathfreemasons.org.uk
X-WR-CALDESC:Events for Bath Freemasons
BEGIN:VEVENT
DTSTART;TZID=UTC+0:20230303T183000
DTEND;TZID=UTC+0:20230303T200000
DTSTAMP:20260424T171311
CREATED:20221005T132656Z
LAST-MODIFIED:20221005T132656Z
UID:4064-1677868200-1677873600@bathfreemasons.org.uk
SUMMARY:REH - Royal Sussex
DESCRIPTION:
URL:https://bathfreemasons.org.uk/event/reh-royal-sussex-34/
CATEGORIES:53
END:VEVENT
END:VCALENDAR