BEGIN:VCALENDAR
VERSION:2.0
PRODID:-//Bath Freemasons - ECPv4.4.2//NONSGML v1.0//EN
CALSCALE:GREGORIAN
METHOD:PUBLISH
X-WR-CALNAME:Bath Freemasons
X-ORIGINAL-URL:https://bathfreemasons.org.uk
X-WR-CALDESC:Events for Bath Freemasons
BEGIN:VEVENT
DTSTART;TZID=UTC+0:20240301T183000
DTEND;TZID=UTC+0:20240301T203000
DTSTAMP:20260424T023435
CREATED:20230917T164638Z
LAST-MODIFIED:20230917T164638Z
UID:4578-1709317800-1709325000@bathfreemasons.org.uk
SUMMARY:REH - Royal Sussex
DESCRIPTION:
URL:https://bathfreemasons.org.uk/event/reh-royal-sussex-40/
CATEGORIES:53
END:VEVENT
END:VCALENDAR