BEGIN:VCALENDAR
VERSION:2.0
PRODID:-//Bath Freemasons - ECPv4.4.2//NONSGML v1.0//EN
CALSCALE:GREGORIAN
METHOD:PUBLISH
X-WR-CALNAME:Bath Freemasons
X-ORIGINAL-URL:https://bathfreemasons.org.uk
X-WR-CALDESC:Events for Bath Freemasons
BEGIN:VEVENT
DTSTART;TZID=UTC+0:20240308T183000
DTEND;TZID=UTC+0:20240308T203000
DTSTAMP:20260423T214250
CREATED:20240212T182143Z
LAST-MODIFIED:20240212T182143Z
UID:4930-1709922600-1709929800@bathfreemasons.org.uk
SUMMARY:REH - Royal Sussex Chapter
DESCRIPTION:
URL:https://bathfreemasons.org.uk/event/reh-royal-sussex-chapter-3/
CATEGORIES:C53
END:VEVENT
END:VCALENDAR