BEGIN:VCALENDAR
VERSION:2.0
PRODID:-//Bath Freemasons - ECPv4.4.2//NONSGML v1.0//EN
CALSCALE:GREGORIAN
METHOD:PUBLISH
X-WR-CALNAME:Bath Freemasons
X-ORIGINAL-URL:https://bathfreemasons.org.uk
X-WR-CALDESC:Events for Bath Freemasons
BEGIN:VEVENT
DTSTART;TZID=UTC+0:20240103T183000
DTEND;TZID=UTC+0:20240103T200000
DTSTAMP:20260424T195052
CREATED:20230917T154334Z
LAST-MODIFIED:20230917T154334Z
UID:4491-1704306600-1704312000@bathfreemasons.org.uk
SUMMARY:REH - St Alphege
DESCRIPTION:
URL:https://bathfreemasons.org.uk/event/reh-st-alphege-38/
CATEGORIES:4095
END:VEVENT
END:VCALENDAR