BEGIN:VCALENDAR
VERSION:2.0
PRODID:-//Bath Freemasons - ECPv4.4.2//NONSGML v1.0//EN
CALSCALE:GREGORIAN
METHOD:PUBLISH
X-WR-CALNAME:Bath Freemasons
X-ORIGINAL-URL:https://bathfreemasons.org.uk
X-WR-CALDESC:Events for Bath Freemasons
BEGIN:VEVENT
DTSTART;TZID=UTC+0:20261027T183000
DTEND;TZID=UTC+0:20261027T203000
DTSTAMP:20260424T051543
CREATED:20251230T101608Z
LAST-MODIFIED:20251230T101608Z
UID:5915-1793125800-1793133000@bathfreemasons.org.uk
SUMMARY:REH - St Alphege
DESCRIPTION:
URL:https://bathfreemasons.org.uk/event/reh-st-alphege-53/
CATEGORIES:4095
END:VEVENT
END:VCALENDAR