BEGIN:VCALENDAR
VERSION:2.0
PRODID:-//Bath Freemasons - ECPv4.4.2//NONSGML v1.0//EN
CALSCALE:GREGORIAN
METHOD:PUBLISH
X-WR-CALNAME:Bath Freemasons
X-ORIGINAL-URL:https://bathfreemasons.org.uk
X-WR-CALDESC:Events for Bath Freemasons
BEGIN:VEVENT
DTSTART;TZID=UTC+0:20261111T183000
DTEND;TZID=UTC+0:20261111T203000
DTSTAMP:20260424T200301
CREATED:20260412T063424Z
LAST-MODIFIED:20260412T063424Z
UID:6042-1794421800-1794429000@bathfreemasons.org.uk
SUMMARY:REH - Wessex Council R&SM
DESCRIPTION:
URL:https://bathfreemasons.org.uk/event/reh-wessex-council-rsm/
CATEGORIES:WC41
END:VEVENT
END:VCALENDAR