BEGIN:VCALENDAR
VERSION:2.0
PRODID:-//Bath Freemasons - ECPv4.4.2//NONSGML v1.0//EN
CALSCALE:GREGORIAN
METHOD:PUBLISH
X-WR-CALNAME:Bath Freemasons
X-ORIGINAL-URL:https://bathfreemasons.org.uk
X-WR-CALDESC:Events for Bath Freemasons
BEGIN:VEVENT
DTSTART;TZID=UTC+0:20250314T100000
DTEND;TZID=UTC+0:20250314T120000
DTSTAMP:20260421T155517
CREATED:20250128T130143Z
LAST-MODIFIED:20250128T130143Z
UID:5342-1741946400-1741953600@bathfreemasons.org.uk
SUMMARY:TOUR
DESCRIPTION:
URL:https://bathfreemasons.org.uk/event/tour-2/
CATEGORIES:Private Guided Tour
END:VEVENT
END:VCALENDAR