BEGIN:VCALENDAR
VERSION:2.0
PRODID:-//Bath Freemasons - ECPv4.4.2//NONSGML v1.0//EN
CALSCALE:GREGORIAN
METHOD:PUBLISH
X-WR-CALNAME:Bath Freemasons
X-ORIGINAL-URL:https://bathfreemasons.org.uk
X-WR-CALDESC:Events for Bath Freemasons
BEGIN:VEVENT
DTSTART;TZID=UTC+0:20240624T180000
DTEND;TZID=UTC+0:20240624T183000
DTSTAMP:20260422T071709
CREATED:20240409T113319Z
LAST-MODIFIED:20240409T113319Z
UID:4964-1719252000-1719253800@bathfreemasons.org.uk
SUMMARY:TOUR - Lord Mayor's Guides
DESCRIPTION:
URL:https://bathfreemasons.org.uk/event/tour-lord-mayors-guides-3/
CATEGORIES:Private Guided Tour
END:VEVENT
END:VCALENDAR