BEGIN:VCALENDAR
VERSION:2.0
PRODID:-//Bath Freemasons - ECPv4.4.2//NONSGML v1.0//EN
CALSCALE:GREGORIAN
METHOD:PUBLISH
X-WR-CALNAME:Bath Freemasons
X-ORIGINAL-URL:https://bathfreemasons.org.uk
X-WR-CALDESC:Events for Bath Freemasons
BEGIN:VEVENT
DTSTART;TZID=UTC+0:20240824T143000
DTEND;TZID=UTC+0:20240824T160000
DTSTAMP:20260422T034403
CREATED:20240711T120712Z
LAST-MODIFIED:20240711T120741Z
UID:5126-1724509800-1724515200@bathfreemasons.org.uk
SUMMARY:TOUR - Saltford Drama Club
DESCRIPTION:
URL:https://bathfreemasons.org.uk/event/tour-saltford-drama-club/
CATEGORIES:Private Guided Tour
END:VEVENT
END:VCALENDAR