BEGIN:VCALENDAR
VERSION:2.0
PRODID:-//Bath Freemasons - ECPv4.4.2//NONSGML v1.0//EN
CALSCALE:GREGORIAN
METHOD:PUBLISH
X-WR-CALNAME:Bath Freemasons
X-ORIGINAL-URL:https://bathfreemasons.org.uk
X-WR-CALDESC:Events for Bath Freemasons
BEGIN:VEVENT
DTSTART;TZID=UTC+0:20231213T110000
DTEND;TZID=UTC+0:20231213T163000
DTSTAMP:20260424T164022
CREATED:20231002T113307Z
LAST-MODIFIED:20231002T113307Z
UID:4637-1702465200-1702485000@bathfreemasons.org.uk
SUMMARY:U3A Tour
DESCRIPTION:
URL:https://bathfreemasons.org.uk/event/u3a-tour/
CATEGORIES:Private Guided Tour
END:VEVENT
END:VCALENDAR